BEGIN:VCALENDAR
VERSION:2.0
PRODID:-//ChamberMaster//Event Calendar 2.0//EN
METHOD:PUBLISH
X-PUBLISHED-TTL:P3D
REFRESH-INTERVAL:P3D
CALSCALE:GREGORIAN
BEGIN:VEVENT
DTSTART;VALUE=DATE:20231109
DTEND;VALUE=DATE:20231110
TRANSP:TRANSPARENT
X-MICROSOFT-CDO-ALLDAYEVENT:TRUE
SUMMARY:5th Annual Japan - Northeast Indiana Summit
DESCRIPTION:The 5th Annual Japan-Northeast Indiana Summit will take place on Thursday\, Nov. 9\, from 9 a.m. - 3 p.m. at the historic Eagles Theatre in downtown Wabash.\n\n\n\nSummit agenda to follow!\n\n\n\nAdmission to this event is FREE\, but registration is REQUIRED to attend as space is limited.\n\n\n\nCompanies interested in sponsoring this event are encouraged to contact Sarah Delgadillo at delgadillos@apaches.k12.in.us or by calling 260-563-5258.
X-ALT-DESC;FMTTYPE=text/html:The <strong>5th Annual Japan-Northeast Indiana Summit</strong> will take place on <strong><em>Thursday\, Nov. 9\, </em></strong>from<strong><em> 9 a.m. - 3 p.m. </em></strong>at the historic<strong><em> Eagles Theatre</em></strong> in downtown Wabash.<br />\n<br />\n<em><strong>Summit agenda to follow!</strong></em><br />\n<br />\nAdmission to this event is&nbsp\;<strong>FREE</strong>\, but registration is&nbsp\;<strong>REQUIRED </strong>to attend as space is limited.<br />\n<br />\nCompanies interested in sponsoring this event are encouraged to contact Sarah Delgadillo at <a href="mailto:delgadillos@apaches.k12.in.us">delgadillos@apaches.k12.in.us</a>&nbsp\;or by calling 260-563-5258.
LOCATION:Eagles Theatre 106 W. Market Street Wabash\, IN
UID:e.1634.7086
SEQUENCE:3
DTSTAMP:20260424T181250Z
URL:https://members.growwabashcounty.com/events/details/5th-annual-japan-northeast-indiana-summit-7086
END:VEVENT

END:VCALENDAR
