BEGIN:VCALENDAR
VERSION:2.0
PRODID:-//ChamberMaster//Event Calendar 2.0//EN
METHOD:PUBLISH
X-PUBLISHED-TTL:P3D
REFRESH-INTERVAL:P3D
CALSCALE:GREGORIAN
BEGIN:VEVENT
DTSTART:20230427T170000Z
DTEND:20230427T183000Z
X-MICROSOFT-CDO-ALLDAYEVENT:FALSE
SUMMARY:Adapting and Planning in Uncertain Times Workshop for Business Owners
DESCRIPTION:Join WEOC\, Grow Wabash County and Downtown Wabash\, Inc. on April 27th for an informative workshop to learn how to plan for the unexpected to help reduce risk for your business.\n\n\n\nAll businesses and their owners are exposed to risk every day\, some minor and some with catastrophic consequences. However\, there are steps that business owners and their employees can take to mitigate\, transfer\, and even avoid risks.\n\n\n\nProper contingency planning\, education and documentation of process can allow businesses\, their owners\, and employees to recover from interruptions more effectively and efficiently. This planning can help also expand through the business to strengthen their day-to-day operations.\n\n\n\nPresented By: Purdue University Institute of Family Business and in partnership with Downtown Wabash\, Inc.\, Manchester Alive\, and Grow Wabash County.\n\n\n\nThis training is provided at no charge through NIIC Community Navigator Pilot Program. Purdue Extension Allen County serves as a Spoke Organization for the program\, to serve entrepreneurs in Northeast Indiana.\n\n\n\nWhile this event is FREE to attend\, registration is REQUIRED as space is limited.
X-ALT-DESC;FMTTYPE=text/html:Join WEOC\, Grow Wabash County and Downtown Wabash\, Inc. on April 27th for an informative workshop to learn how to plan for the unexpected to help reduce risk for your business.<br />\n<br />\nAll businesses and their owners are exposed to risk every day\, some minor and some with catastrophic consequences. However\, there are steps that business owners and their employees can take to mitigate\, transfer\, and even avoid risks.<br />\n<br />\nProper contingency planning\, education and documentation of process can allow businesses\, their owners\, and employees to recover from interruptions more effectively and efficiently. This planning can help also expand through the business to strengthen their day-to-day operations.<br />\n<br />\nPresented By: Purdue University Institute of Family Business and in partnership with Downtown Wabash\, Inc.\, Manchester Alive\, and Grow Wabash County.<br />\n<br />\nThis training is provided at no charge through NIIC Community Navigator Pilot Program. Purdue Extension Allen County serves as a Spoke Organization for the program\, to serve entrepreneurs in Northeast Indiana.<br />\n<br />\nWhile this event is FREE to attend\, registration is REQUIRED as space is limited.&nbsp\;
LOCATION:Grow Wabash County 214 South Wabash Street
UID:e.1634.6947
SEQUENCE:3
DTSTAMP:20260424T140347Z
URL:https://members.growwabashcounty.com/events/details/adapting-and-planning-in-uncertain-times-workshop-for-business-owners-6947
END:VEVENT

END:VCALENDAR
