BEGIN:VCALENDAR
VERSION:2.0
PRODID:-//ChamberMaster//Event Calendar 2.0//EN
METHOD:PUBLISH
X-PUBLISHED-TTL:P3D
REFRESH-INTERVAL:P3D
CALSCALE:GREGORIAN
BEGIN:VEVENT
DTSTART:20260501T140000Z
DTEND:20260501T150000Z
X-MICROSOFT-CDO-ALLDAYEVENT:FALSE
SUMMARY:Book Bingo
DESCRIPTION:Join us for a morning edition of Book Bingo on May 1st at 10:00 AM. Play\, laugh\, and win Book Bucks while enjoying a fun twist on classic bingo made just for book lovers. Bring a friend and start your morning the fun way at the library.
X-ALT-DESC;FMTTYPE=text/html:Join us for a morning edition of Book Bingo on May 1st at 10:00 AM. Play\, laugh\, and win Book Bucks while enjoying a fun twist on classic bingo made just for book lovers. Bring a friend and start your morning the fun way at the library.
LOCATION:Wabash Carnegie Public Library
UID:e.1634.8481
SEQUENCE:3
DTSTAMP:20260423T071437Z
URL:https://members.growwabashcounty.com/events/details/book-bingo-05-01-2026-8481
END:VEVENT

END:VCALENDAR
