BEGIN:VCALENDAR
VERSION:2.0
PRODID:-//ChamberMaster//Event Calendar 2.0//EN
METHOD:PUBLISH
X-PUBLISHED-TTL:P3D
REFRESH-INTERVAL:P3D
CALSCALE:GREGORIAN
BEGIN:VEVENT
DTSTART:20260505T200000Z
DTEND:20260505T210000Z
X-MICROSOFT-CDO-ALLDAYEVENT:FALSE
SUMMARY:City of Wabash Redevelopment Commission Meeting
DESCRIPTION:
X-ALT-DESC;FMTTYPE=text/html:
LOCATION:
UID:e.1634.6303
SEQUENCE:3
DTSTAMP:20260423T083854Z
URL:https://members.growwabashcounty.com/events/details/city-of-wabash-redevelopment-commission-meeting-05-05-2026-6303
END:VEVENT

END:VCALENDAR
