BEGIN:VCALENDAR
VERSION:2.0
PRODID:-//ChamberMaster//Event Calendar 2.0//EN
METHOD:PUBLISH
X-PUBLISHED-TTL:P3D
REFRESH-INTERVAL:P3D
CALSCALE:GREGORIAN
BEGIN:VEVENT
DTSTART:20260307T120000Z
DTEND:20260307T180000Z
X-MICROSOFT-CDO-ALLDAYEVENT:FALSE
SUMMARY:Kiwanis Pancake Day
DESCRIPTION:The Wabash Kiwanis Club will soon host its annual Pancake Day\, which is the local service organization's largest annual fundraiser. Pancakes (with or without blueberries) will be available\, along with sausage and drinks.
X-ALT-DESC;FMTTYPE=text/html:The Wabash Kiwanis Club will soon host its annual Pancake Day\, which is the local service organization&#39\;s largest annual fundraiser. Pancakes (with or without blueberries) will be available\, along with sausage and drinks.
LOCATION:Bruce Ingraham building at the Wabash County Fairgrounds\, located just off on 660 Gillen Avenue in Wabash
UID:e.1634.8401
SEQUENCE:3
DTSTAMP:20260421T082342Z
URL:https://members.growwabashcounty.com/events/details/kiwanis-pancake-day-8401
END:VEVENT

END:VCALENDAR
