BEGIN:VCALENDAR
VERSION:2.0
PRODID:-//ChamberMaster//Event Calendar 2.0//EN
METHOD:PUBLISH
X-PUBLISHED-TTL:P3D
REFRESH-INTERVAL:P3D
CALSCALE:GREGORIAN
BEGIN:VEVENT
DTSTART:20260501T223000Z
DTEND:20260501T230000Z
X-MICROSOFT-CDO-ALLDAYEVENT:FALSE
SUMMARY:Ribbon Cutting: Mammoth Park
DESCRIPTION:Join Grow Wabash County and Downtown Wabash for a joint-ribbon cutting celebrating the completion of Mammoth Park at 6:30 p.m. on May 1\, 2026.
X-ALT-DESC;FMTTYPE=text/html:<br />\nJoin Grow Wabash County and Downtown Wabash for a joint-ribbon cutting celebrating the completion of Mammoth Park at 6:30 p.m. on May 1\, 2026.
LOCATION:295 E Canal St Wabash\, IN 46992
UID:e.1634.8483
SEQUENCE:3
DTSTAMP:20260423T070506Z
URL:https://members.growwabashcounty.com/events/details/ribbon-cutting-mammoth-park-8483
END:VEVENT

END:VCALENDAR
