BEGIN:VCALENDAR
VERSION:2.0
PRODID:-//ChamberMaster//Event Calendar 2.0//EN
METHOD:PUBLISH
X-PUBLISHED-TTL:P3D
REFRESH-INTERVAL:P3D
CALSCALE:GREGORIAN
BEGIN:VEVENT
DTSTART:20260320T160000Z
DTEND:20260320T170000Z
X-MICROSOFT-CDO-ALLDAYEVENT:FALSE
SUMMARY:YPWC: Lunch & Learn
DESCRIPTION:Lunch & Learn | Grow Wabash County\n\n  Friday\, March 20\n\n  12:00-1:00 PM\n\n  Grow Wabash County Office - 214 S Wabash St.\n\n  Lunch will be provided\n\n \n\nThe 2026 job market is competitive\, and the edge belongs to those who know how to position themselves strategically.\n\nJoin us for a high-impact Lunch & Learn featuring Aaron Holley\, Vice President of Human Resources at Beacon Credit Union\, as he presents:\n\nThe Interview Edge: Mastering Etiquette and Influence\n\nAaron brings nearly two decades of HR leadership experience and deep roots in Wabash County. In this session\, he'll move beyond surface-level advice and share practical strategies to help you stand out with confidence and polish.\n\nYou'll learn how to:\n\n  Build a 2026-ready resume that works for both AI systems and human reviewers\n\n  Research companies strategically to align your experience with their goals\n\n  Master both virtual and in-person interview etiquette\n\n  Ask high-value questions that differentiate you\n\n  Follow up professionally (without overdoing it)\n\nWhether you're actively job searching\, exploring your next step\, or simply refining your professional presence\, this session is for you. We hope to see you there! Seats are limited. Register via the button.
X-ALT-DESC;FMTTYPE=text/html:<div style="line-height: 1.38\; margin: 12pt 0in\; font-family: Tahoma\, Geneva\, sans-serif\; font-size: 11pt\; color: rgb(0\, 0\, 0)\;"><span style="font-size:16px\;"><b data-olk-copy-source="MailCompose">Lunch &amp\; Learn | Grow Wabash County</b><br />\n&#128197\; Friday\, March 20<br />\n&#128347\; 12:00-1:00&nbsp\;PM<br />\n&#128205\; Grow Wabash County Office - 214 S Wabash St.</span><br />\n<span style="color: rgb(0\, 0\, 0)\; font-family: Tahoma\, Geneva\, sans-serif\; font-size: 16px\;">&#128205\;&nbsp\;</span><span style="font-size:16px\;">Lunch will be provided</span><br />\n&nbsp\;</div>\n\n<div style="line-height: 1.38\; margin: 12pt 0in\; font-family: Tahoma\, Geneva\, sans-serif\; font-size: 11pt\; color: rgb(0\, 0\, 0)\;"><span style="font-size:16px\;">The 2026 job market is competitive\, and the edge belongs to those who know how to position themselves strategically.</span></div>\n\n<div style="line-height: 1.38\; margin: 12pt 0in\; font-family: Tahoma\, Geneva\, sans-serif\; font-size: 11pt\; color: rgb(0\, 0\, 0)\;"><span style="font-size:16px\;">Join us for a high-impact Lunch &amp\; Learn featuring <b>Aaron Holley</b>\, Vice President of Human Resources at <b>Beacon Credit Union</b>\, as he presents:</span></div>\n\n<div style="line-height: 1.38\; margin: 12pt 0in\; font-family: Tahoma\, Geneva\, sans-serif\; font-size: 11pt\; color: rgb(0\, 0\, 0)\;"><span style="font-size:16px\;"><b>The Interview Edge: Mastering Etiquette and Influence</b></span></div>\n\n<div style="line-height: 1.38\; margin: 12pt 0in\; font-family: Tahoma\, Geneva\, sans-serif\; font-size: 11pt\; color: rgb(0\, 0\, 0)\;"><span style="font-size:16px\;">Aaron brings nearly two decades of HR leadership experience and deep roots in Wabash County. In this session\, he&rsquo\;ll move beyond surface-level advice and share practical strategies to help you stand out with confidence and polish.</span></div>\n\n<div style="line-height: 1.38\; margin: 12pt 0in\; font-family: Tahoma\, Geneva\, sans-serif\; font-size: 11pt\; color: rgb(0\, 0\, 0)\;"><span style="font-size:16px\;">You&rsquo\;ll learn how to:<br />\n&bull\; Build a 2026-ready resume that works for both AI systems and human reviewers<br />\n&bull\; Research companies strategically to align your experience with their goals<br />\n&bull\; Master both virtual and in-person interview etiquette<br />\n&bull\; Ask high-value questions that differentiate you<br />\n&bull\; Follow up professionally (without overdoing it)</span></div>\n\n<div style="line-height: 1.38\; margin: 12pt 0in\; font-family: Tahoma\, Geneva\, sans-serif\; font-size: 11pt\; color: rgb(0\, 0\, 0)\;"><span style="font-size: 16px\;">Whether you&rsquo\;re actively job searching\, exploring your next step\, or simply refining your professional presence\,&nbsp\;this session is for you.&nbsp\;We hope to see you there! Seats are limited. Register via the button.</span></div>\n
LOCATION:Grow Wabash County Conference Room 214 S Wabash St. Wabash\, IN 46992
UID:e.1634.8406
SEQUENCE:3
DTSTAMP:20260421T082319Z
URL:https://members.growwabashcounty.com/events/details/ypwc-lunch-learn-8406
END:VEVENT

END:VCALENDAR
